BEGIN:VCALENDAR
VERSION:2.0
PRODID:-//Maschinenring Lüchow e.V. - ECPv6.15.20//NONSGML v1.0//EN
CALSCALE:GREGORIAN
METHOD:PUBLISH
X-ORIGINAL-URL:https://mr-luechow.de
X-WR-CALDESC:Veranstaltungen für Maschinenring Lüchow e.V.
REFRESH-INTERVAL;VALUE=DURATION:PT1H
X-Robots-Tag:noindex
X-PUBLISHED-TTL:PT1H
BEGIN:VTIMEZONE
TZID:Europe/Berlin
BEGIN:DAYLIGHT
TZOFFSETFROM:+0100
TZOFFSETTO:+0200
TZNAME:CEST
DTSTART:20150329T010000
END:DAYLIGHT
BEGIN:STANDARD
TZOFFSETFROM:+0200
TZOFFSETTO:+0100
TZNAME:CET
DTSTART:20151025T010000
END:STANDARD
BEGIN:DAYLIGHT
TZOFFSETFROM:+0100
TZOFFSETTO:+0200
TZNAME:CEST
DTSTART:20160327T010000
END:DAYLIGHT
BEGIN:STANDARD
TZOFFSETFROM:+0200
TZOFFSETTO:+0100
TZNAME:CET
DTSTART:20161030T010000
END:STANDARD
BEGIN:DAYLIGHT
TZOFFSETFROM:+0100
TZOFFSETTO:+0200
TZNAME:CEST
DTSTART:20170326T010000
END:DAYLIGHT
BEGIN:STANDARD
TZOFFSETFROM:+0200
TZOFFSETTO:+0100
TZNAME:CET
DTSTART:20171029T010000
END:STANDARD
END:VTIMEZONE
BEGIN:VEVENT
DTSTART;TZID=Europe/Berlin:20161203T200000
DTEND;TZID=Europe/Berlin:20161204T050000
DTSTAMP:20260426T024954
CREATED:20160929T142920Z
LAST-MODIFIED:20161013T125655Z
UID:2256-1480795200-1480827600@mr-luechow.de
SUMMARY:Bauernball in Dünsche
DESCRIPTION:
URL:https://mr-luechow.de/termin/3-bauernball-in-duensche/
LOCATION:Gasthaus Sültemeier\, Dünsche Nr. 9\, Trebel\, 29494\, Deutschland
CATEGORIES:Veranstaltungen
ORGANIZER;CN="Maschinenring L%C3%BCchow e.V.":MAILTO:info@mr-luechow.de
END:VEVENT
BEGIN:VEVENT
DTSTART;TZID=Europe/Berlin:20161217T080000
DTEND;TZID=Europe/Berlin:20161217T160000
DTSTAMP:20260426T024954
CREATED:20161206T133631Z
LAST-MODIFIED:20161206T140650Z
UID:2843-1481961600-1481990400@mr-luechow.de
SUMMARY:Berufskraftfahrer Weiterbildung Modul 3
DESCRIPTION:
URL:https://mr-luechow.de/termin/berufskraftfahrer-weiterbildung-modul-3/
CATEGORIES:Schulungen
END:VEVENT
END:VCALENDAR