BEGIN:VCALENDAR
VERSION:2.0
PRODID:-//Maschinenring Lüchow e.V. - ECPv6.15.20//NONSGML v1.0//EN
CALSCALE:GREGORIAN
METHOD:PUBLISH
X-WR-CALNAME:Maschinenring Lüchow e.V.
X-ORIGINAL-URL:https://mr-luechow.de
X-WR-CALDESC:Veranstaltungen für Maschinenring Lüchow e.V.
REFRESH-INTERVAL;VALUE=DURATION:PT1H
X-Robots-Tag:noindex
X-PUBLISHED-TTL:PT1H
BEGIN:VTIMEZONE
TZID:Europe/Berlin
BEGIN:DAYLIGHT
TZOFFSETFROM:+0100
TZOFFSETTO:+0200
TZNAME:CEST
DTSTART:20160327T010000
END:DAYLIGHT
BEGIN:STANDARD
TZOFFSETFROM:+0200
TZOFFSETTO:+0100
TZNAME:CET
DTSTART:20161030T010000
END:STANDARD
BEGIN:DAYLIGHT
TZOFFSETFROM:+0100
TZOFFSETTO:+0200
TZNAME:CEST
DTSTART:20170326T010000
END:DAYLIGHT
BEGIN:STANDARD
TZOFFSETFROM:+0200
TZOFFSETTO:+0100
TZNAME:CET
DTSTART:20171029T010000
END:STANDARD
BEGIN:DAYLIGHT
TZOFFSETFROM:+0100
TZOFFSETTO:+0200
TZNAME:CEST
DTSTART:20180325T010000
END:DAYLIGHT
BEGIN:STANDARD
TZOFFSETFROM:+0200
TZOFFSETTO:+0100
TZNAME:CET
DTSTART:20181028T010000
END:STANDARD
END:VTIMEZONE
BEGIN:VEVENT
DTSTART;VALUE=DATE:20170604
DTEND;VALUE=DATE:20170605
DTSTAMP:20260425T171937
CREATED:20160218T130533Z
LAST-MODIFIED:20160218T131949Z
UID:1271-1496534400-1496620799@mr-luechow.de
SUMMARY:Pfingstsonntag
DESCRIPTION:
URL:https://mr-luechow.de/termin/pfingstsonntag-8/
CATEGORIES:Veranstaltungen
END:VEVENT
BEGIN:VEVENT
DTSTART;TZID=Europe/Berlin:20170605T000000
DTEND;TZID=Europe/Berlin:20170605T000000
DTSTAMP:20260425T171937
CREATED:20160218T130533Z
LAST-MODIFIED:20160218T131906Z
UID:1272-1496620800-1496620800@mr-luechow.de
SUMMARY:Pfingstmontag
DESCRIPTION:
URL:https://mr-luechow.de/termin/pfingstmontag-8/
CATEGORIES:Veranstaltungen
END:VEVENT
BEGIN:VEVENT
DTSTART;TZID=Europe/Berlin:20170628T090000
DTEND;TZID=Europe/Berlin:20170630T170000
DTSTAMP:20260425T171937
CREATED:20170321T150131Z
LAST-MODIFIED:20170613T093628Z
UID:3497-1498640400-1498842000@mr-luechow.de
SUMMARY:Qualifizierungsseminar für Beschäftigte an Biogasanlagen
DESCRIPTION:Anmeldebogen und Informationen
URL:https://mr-luechow.de/termin/qualifizierungsseminar-fuer-beschaeftigte-an-biogasanlagen/
CATEGORIES:Schulungen
END:VEVENT
END:VCALENDAR