BEGIN:VCALENDAR
VERSION:2.0
PRODID:-//Maschinenring Lüchow e.V. - ECPv6.15.20//NONSGML v1.0//EN
CALSCALE:GREGORIAN
METHOD:PUBLISH
X-ORIGINAL-URL:https://mr-luechow.de
X-WR-CALDESC:Veranstaltungen für Maschinenring Lüchow e.V.
REFRESH-INTERVAL;VALUE=DURATION:PT1H
X-Robots-Tag:noindex
X-PUBLISHED-TTL:PT1H
BEGIN:VTIMEZONE
TZID:Europe/Berlin
BEGIN:DAYLIGHT
TZOFFSETFROM:+0100
TZOFFSETTO:+0200
TZNAME:CEST
DTSTART:20170326T010000
END:DAYLIGHT
BEGIN:STANDARD
TZOFFSETFROM:+0200
TZOFFSETTO:+0100
TZNAME:CET
DTSTART:20171029T010000
END:STANDARD
BEGIN:DAYLIGHT
TZOFFSETFROM:+0100
TZOFFSETTO:+0200
TZNAME:CEST
DTSTART:20180325T010000
END:DAYLIGHT
BEGIN:STANDARD
TZOFFSETFROM:+0200
TZOFFSETTO:+0100
TZNAME:CET
DTSTART:20181028T010000
END:STANDARD
BEGIN:DAYLIGHT
TZOFFSETFROM:+0100
TZOFFSETTO:+0200
TZNAME:CEST
DTSTART:20190331T010000
END:DAYLIGHT
BEGIN:STANDARD
TZOFFSETFROM:+0200
TZOFFSETTO:+0100
TZNAME:CET
DTSTART:20191027T010000
END:STANDARD
END:VTIMEZONE
BEGIN:VEVENT
DTSTART;TZID=Europe/Berlin:20180308T090000
DTEND;TZID=Europe/Berlin:20180308T130000
DTSTAMP:20260425T025735
CREATED:20180226T141226Z
LAST-MODIFIED:20180226T141226Z
UID:4915-1520499600-1520514000@mr-luechow.de
SUMMARY:Infoveranstaltung zum Thema "Vorsorgevollmacht\, Betreuungs- oder Patientenverfügung"
DESCRIPTION:
URL:https://mr-luechow.de/termin/infoveranstaltung-zum-thema-vorsorgevollmacht-betreuungs-oder-patientenverfuegung/
LOCATION:MR-Zentrum\, Bergstraße 10\, Lüchow\, Deutschland\, 29439\, Deutschland
CATEGORIES:Veranstaltungen
END:VEVENT
BEGIN:VEVENT
DTSTART;VALUE=DATE:20180330
DTEND;VALUE=DATE:20180331
DTSTAMP:20260425T025735
CREATED:20160218T130533Z
LAST-MODIFIED:20160218T131751Z
UID:1273-1522368000-1522454399@mr-luechow.de
SUMMARY:Karfreitag
DESCRIPTION:
URL:https://mr-luechow.de/termin/karfreitag-9/
CATEGORIES:Veranstaltungen
END:VEVENT
END:VCALENDAR