BEGIN:VCALENDAR
VERSION:2.0
PRODID:-//Maschinenring Lüchow e.V. - ECPv6.15.20//NONSGML v1.0//EN
CALSCALE:GREGORIAN
METHOD:PUBLISH
X-WR-CALNAME:Maschinenring Lüchow e.V.
X-ORIGINAL-URL:https://mr-luechow.de
X-WR-CALDESC:Veranstaltungen für Maschinenring Lüchow e.V.
REFRESH-INTERVAL;VALUE=DURATION:PT1H
X-Robots-Tag:noindex
X-PUBLISHED-TTL:PT1H
BEGIN:VTIMEZONE
TZID:Europe/Berlin
BEGIN:DAYLIGHT
TZOFFSETFROM:+0100
TZOFFSETTO:+0200
TZNAME:CEST
DTSTART:20170326T010000
END:DAYLIGHT
BEGIN:STANDARD
TZOFFSETFROM:+0200
TZOFFSETTO:+0100
TZNAME:CET
DTSTART:20171029T010000
END:STANDARD
BEGIN:DAYLIGHT
TZOFFSETFROM:+0100
TZOFFSETTO:+0200
TZNAME:CEST
DTSTART:20180325T010000
END:DAYLIGHT
BEGIN:STANDARD
TZOFFSETFROM:+0200
TZOFFSETTO:+0100
TZNAME:CET
DTSTART:20181028T010000
END:STANDARD
BEGIN:DAYLIGHT
TZOFFSETFROM:+0100
TZOFFSETTO:+0200
TZNAME:CEST
DTSTART:20190331T010000
END:DAYLIGHT
BEGIN:STANDARD
TZOFFSETFROM:+0200
TZOFFSETTO:+0100
TZNAME:CET
DTSTART:20191027T010000
END:STANDARD
END:VTIMEZONE
BEGIN:VEVENT
DTSTART;VALUE=DATE:20180401
DTEND;VALUE=DATE:20180402
DTSTAMP:20260425T012137
CREATED:20160217T230033Z
LAST-MODIFIED:20160218T131828Z
UID:1274-1522540800-1522627199@mr-luechow.de
SUMMARY:Ostersonntag
DESCRIPTION:
URL:https://mr-luechow.de/termin/ostersonntag-9/
CATEGORIES:Veranstaltungen
END:VEVENT
BEGIN:VEVENT
DTSTART;VALUE=DATE:20180402
DTEND;VALUE=DATE:20180403
DTSTAMP:20260425T012137
CREATED:20160218T130533Z
LAST-MODIFIED:20160218T131655Z
UID:1275-1522627200-1522713599@mr-luechow.de
SUMMARY:Ostermontag
DESCRIPTION:
URL:https://mr-luechow.de/termin/ostermontag-9/
CATEGORIES:Veranstaltungen
END:VEVENT
END:VCALENDAR