BEGIN:VCALENDAR
VERSION:2.0
PRODID:-//Maschinenring Lüchow e.V. - ECPv6.15.20//NONSGML v1.0//EN
CALSCALE:GREGORIAN
METHOD:PUBLISH
X-ORIGINAL-URL:https://mr-luechow.de
X-WR-CALDESC:Veranstaltungen für Maschinenring Lüchow e.V.
REFRESH-INTERVAL;VALUE=DURATION:PT1H
X-Robots-Tag:noindex
X-PUBLISHED-TTL:PT1H
BEGIN:VTIMEZONE
TZID:Europe/Berlin
BEGIN:DAYLIGHT
TZOFFSETFROM:+0100
TZOFFSETTO:+0200
TZNAME:CEST
DTSTART:20170326T010000
END:DAYLIGHT
BEGIN:STANDARD
TZOFFSETFROM:+0200
TZOFFSETTO:+0100
TZNAME:CET
DTSTART:20171029T010000
END:STANDARD
BEGIN:DAYLIGHT
TZOFFSETFROM:+0100
TZOFFSETTO:+0200
TZNAME:CEST
DTSTART:20180325T010000
END:DAYLIGHT
BEGIN:STANDARD
TZOFFSETFROM:+0200
TZOFFSETTO:+0100
TZNAME:CET
DTSTART:20181028T010000
END:STANDARD
BEGIN:DAYLIGHT
TZOFFSETFROM:+0100
TZOFFSETTO:+0200
TZNAME:CEST
DTSTART:20190331T010000
END:DAYLIGHT
BEGIN:STANDARD
TZOFFSETFROM:+0200
TZOFFSETTO:+0100
TZNAME:CET
DTSTART:20191027T010000
END:STANDARD
END:VTIMEZONE
BEGIN:VEVENT
DTSTART;TZID=Europe/Berlin:20181124T073000
DTEND;TZID=Europe/Berlin:20181124T073000
DTSTAMP:20260424T140441
CREATED:20181106T132920Z
LAST-MODIFIED:20181106T132920Z
UID:5391-1543044600-1543044600@mr-luechow.de
SUMMARY:Modul-Schulungen Modul i
DESCRIPTION:Anmeldung bei Dorothea Olm unter 0 58 41 – 96 28 131 oder d.olm@mr-luechow.de
URL:https://mr-luechow.de/termin/modul-schulungen-modul-i/
LOCATION:Fahrschule Franz\, Schützenstr. 10\, Bad Bodenteich
END:VEVENT
BEGIN:VEVENT
DTSTART;TZID=Europe/Berlin:20181129T073000
DTEND;TZID=Europe/Berlin:20181129T073000
DTSTAMP:20260424T140441
CREATED:20181106T133230Z
LAST-MODIFIED:20181106T133230Z
UID:5406-1543476600-1543476600@mr-luechow.de
SUMMARY:Modul-Schulungen Modul ii
DESCRIPTION:Anmeldung bei Dorothea Olm unter 0 58 41 – 96 28 131 oder d.olm@mr-luechow.de
URL:https://mr-luechow.de/termin/modul-schulungen-modul-ii/
LOCATION:Fahrschule Franz\, Schützenstr. 10\, Bad Bodenteich
END:VEVENT
END:VCALENDAR