BEGIN:VCALENDAR
VERSION:2.0
PRODID:-//Maschinenring Lüchow e.V. - ECPv6.15.20//NONSGML v1.0//EN
CALSCALE:GREGORIAN
METHOD:PUBLISH
X-WR-CALNAME:Maschinenring Lüchow e.V.
X-ORIGINAL-URL:https://mr-luechow.de
X-WR-CALDESC:Veranstaltungen für Maschinenring Lüchow e.V.
REFRESH-INTERVAL;VALUE=DURATION:PT1H
X-Robots-Tag:noindex
X-PUBLISHED-TTL:PT1H
BEGIN:VTIMEZONE
TZID:Europe/Berlin
BEGIN:DAYLIGHT
TZOFFSETFROM:+0100
TZOFFSETTO:+0200
TZNAME:CEST
DTSTART:20170326T010000
END:DAYLIGHT
BEGIN:STANDARD
TZOFFSETFROM:+0200
TZOFFSETTO:+0100
TZNAME:CET
DTSTART:20171029T010000
END:STANDARD
BEGIN:DAYLIGHT
TZOFFSETFROM:+0100
TZOFFSETTO:+0200
TZNAME:CEST
DTSTART:20180325T010000
END:DAYLIGHT
BEGIN:STANDARD
TZOFFSETFROM:+0200
TZOFFSETTO:+0100
TZNAME:CET
DTSTART:20181028T010000
END:STANDARD
BEGIN:DAYLIGHT
TZOFFSETFROM:+0100
TZOFFSETTO:+0200
TZNAME:CEST
DTSTART:20190331T010000
END:DAYLIGHT
BEGIN:STANDARD
TZOFFSETFROM:+0200
TZOFFSETTO:+0100
TZNAME:CET
DTSTART:20191027T010000
END:STANDARD
END:VTIMEZONE
BEGIN:VEVENT
DTSTART;TZID=Europe/Berlin:20181203T090000
DTEND;TZID=Europe/Berlin:20181203T160000
DTSTAMP:20260424T124243
CREATED:20180620T065428Z
LAST-MODIFIED:20180620T065809Z
UID:5052-1543827600-1543852800@mr-luechow.de
SUMMARY:Schadnagerlehrgang
DESCRIPTION:Im Maschinenring-Zentrum\, Bergstr. 10\, 29439 Lüchow (Wendland) findet am\nMontag\, 03.12.2018\, 9.00 Uhr bis 16.00 Uhr\,\nein Sachkundelehrgang „Nagerbekämpfung“ (Mäuse und Ratten) gem. § 4(1) Tierschutzgesetz inkl. Zertifikatsschulung für berufsmäßige Anwender statt. \nBei Fragen bzw. zur Anmeldung nehmen Sie gerne mit Frau Dorothea Olm\, 05841-962811\, im Maschinenring-Zentrum Kontakt auf.
URL:https://mr-luechow.de/termin/schadnagerlehrgang/
LOCATION:MR-Zentrum\, Bergstraße 10\, Lüchow\, Deutschland\, 29439\, Deutschland
ORGANIZER;CN="Maschinenring L%C3%BCchow e.V.":MAILTO:info@mr-luechow.de
END:VEVENT
BEGIN:VEVENT
DTSTART;TZID=Europe/Berlin:20181208T200000
DTEND;TZID=Europe/Berlin:20181208T200000
DTSTAMP:20260424T124243
CREATED:20181107T094734Z
LAST-MODIFIED:20181107T094746Z
UID:5416-1544299200-1544299200@mr-luechow.de
SUMMARY:10. Bauernball in Dünsche
DESCRIPTION:
URL:https://mr-luechow.de/termin/10-bauernball-in-duensche/
LOCATION:Gasthaus Sültemeier\, Dünsche Nr. 9\, Trebel\, 29494\, Deutschland
END:VEVENT
BEGIN:VEVENT
DTSTART;TZID=Europe/Berlin:20181215T073000
DTEND;TZID=Europe/Berlin:20181215T073000
DTSTAMP:20260424T124243
CREATED:20181106T133018Z
LAST-MODIFIED:20181106T133018Z
UID:5400-1544859000-1544859000@mr-luechow.de
SUMMARY:Modul-Schulung Modul V
DESCRIPTION:Anmeldung bei Dorothea Olm unter 0 58 41 – 96 28 131 oder d.olm@mr-luechow.de
URL:https://mr-luechow.de/termin/modul-schulung-modul-v-3/
LOCATION:Fahrschule Franz\, Schützenstr. 10\, Bad Bodenteich
END:VEVENT
BEGIN:VEVENT
DTSTART;TZID=Europe/Berlin:20181222T073000
DTEND;TZID=Europe/Berlin:20181222T073000
DTSTAMP:20260424T124243
CREATED:20181106T133116Z
LAST-MODIFIED:20181106T133116Z
UID:5402-1545463800-1545463800@mr-luechow.de
SUMMARY:Modul-Schulung Modul iV
DESCRIPTION:Anmeldung bei Dorothea Olm unter 0 58 41 – 96 28 131 oder d.olm@mr-luechow.de
URL:https://mr-luechow.de/termin/modul-schulung-modul-iv/
LOCATION:Fahrschule Franz\, Schützenstr. 10\, Bad Bodenteich
END:VEVENT
BEGIN:VEVENT
DTSTART;TZID=Europe/Berlin:20181231T073000
DTEND;TZID=Europe/Berlin:20181231T073000
DTSTAMP:20260424T124243
CREATED:20181106T133152Z
LAST-MODIFIED:20181106T133152Z
UID:5404-1546241400-1546241400@mr-luechow.de
SUMMARY:Modul-Schulung Modul iV
DESCRIPTION:Anmeldung bei Dorothea Olm unter 0 58 41 – 96 28 131 oder d.olm@mr-luechow.de
URL:https://mr-luechow.de/termin/modul-schulung-modul-iv-2/
LOCATION:Fahrschule Franz\, Schützenstr. 10\, Bad Bodenteich
END:VEVENT
END:VCALENDAR