BEGIN:VCALENDAR
VERSION:2.0
PRODID:-//Maschinenring Lüchow e.V. - ECPv6.15.20//NONSGML v1.0//EN
CALSCALE:GREGORIAN
METHOD:PUBLISH
X-ORIGINAL-URL:https://mr-luechow.de
X-WR-CALDESC:Veranstaltungen für Maschinenring Lüchow e.V.
REFRESH-INTERVAL;VALUE=DURATION:PT1H
X-Robots-Tag:noindex
X-PUBLISHED-TTL:PT1H
BEGIN:VTIMEZONE
TZID:Europe/Berlin
BEGIN:DAYLIGHT
TZOFFSETFROM:+0100
TZOFFSETTO:+0200
TZNAME:CEST
DTSTART:20180325T010000
END:DAYLIGHT
BEGIN:STANDARD
TZOFFSETFROM:+0200
TZOFFSETTO:+0100
TZNAME:CET
DTSTART:20181028T010000
END:STANDARD
BEGIN:DAYLIGHT
TZOFFSETFROM:+0100
TZOFFSETTO:+0200
TZNAME:CEST
DTSTART:20190331T010000
END:DAYLIGHT
BEGIN:STANDARD
TZOFFSETFROM:+0200
TZOFFSETTO:+0100
TZNAME:CET
DTSTART:20191027T010000
END:STANDARD
BEGIN:DAYLIGHT
TZOFFSETFROM:+0100
TZOFFSETTO:+0200
TZNAME:CEST
DTSTART:20200329T010000
END:DAYLIGHT
BEGIN:STANDARD
TZOFFSETFROM:+0200
TZOFFSETTO:+0100
TZNAME:CET
DTSTART:20201025T010000
END:STANDARD
END:VTIMEZONE
BEGIN:VEVENT
DTSTART;TZID=Europe/Berlin:20190527T090000
DTEND;TZID=Europe/Berlin:20190527T170000
DTSTAMP:20260424T042649
CREATED:20190410T083358Z
LAST-MODIFIED:20190410T083358Z
UID:5768-1558947600-1558976400@mr-luechow.de
SUMMARY:LEB Biogasbetreiber-Schulung
DESCRIPTION:Auffrischungsschulung zu TRG S 529\n  \nAnmeldung bitte bei Frau Roggenburg\, Tel\,. 0 54 42 – 28 24
URL:https://mr-luechow.de/termin/leb-biogasbetreiber-schulung/
LOCATION:MR-Zentrum\, Bergstraße 10\, Lüchow\, Deutschland\, 29439\, Deutschland
CATEGORIES:Schulungen
END:VEVENT
END:VCALENDAR