BEGIN:VCALENDAR
VERSION:2.0
PRODID:-//Maschinenring Lüchow e.V. - ECPv6.15.20//NONSGML v1.0//EN
CALSCALE:GREGORIAN
METHOD:PUBLISH
X-WR-CALNAME:Maschinenring Lüchow e.V.
X-ORIGINAL-URL:https://mr-luechow.de
X-WR-CALDESC:Veranstaltungen für Maschinenring Lüchow e.V.
REFRESH-INTERVAL;VALUE=DURATION:PT1H
X-Robots-Tag:noindex
X-PUBLISHED-TTL:PT1H
BEGIN:VTIMEZONE
TZID:Europe/Berlin
BEGIN:DAYLIGHT
TZOFFSETFROM:+0100
TZOFFSETTO:+0200
TZNAME:CEST
DTSTART:20190331T010000
END:DAYLIGHT
BEGIN:STANDARD
TZOFFSETFROM:+0200
TZOFFSETTO:+0100
TZNAME:CET
DTSTART:20191027T010000
END:STANDARD
BEGIN:DAYLIGHT
TZOFFSETFROM:+0100
TZOFFSETTO:+0200
TZNAME:CEST
DTSTART:20200329T010000
END:DAYLIGHT
BEGIN:STANDARD
TZOFFSETFROM:+0200
TZOFFSETTO:+0100
TZNAME:CET
DTSTART:20201025T010000
END:STANDARD
BEGIN:DAYLIGHT
TZOFFSETFROM:+0100
TZOFFSETTO:+0200
TZNAME:CEST
DTSTART:20210328T010000
END:DAYLIGHT
BEGIN:STANDARD
TZOFFSETFROM:+0200
TZOFFSETTO:+0100
TZNAME:CET
DTSTART:20211031T010000
END:STANDARD
END:VTIMEZONE
BEGIN:VEVENT
DTSTART;VALUE=DATE:20200114
DTEND;VALUE=DATE:20200116
DTSTAMP:20260424T003253
CREATED:20190611T085925Z
LAST-MODIFIED:20190611T090002Z
UID:6046-1578960000-1579132799@mr-luechow.de
SUMMARY:LUV Model - Aufbau Schulung
DESCRIPTION:Anmeldungen bitte bei der SVLFG\, Ansprechpartnerin Frau A. Hoya\, Tel: 0561-78516538
URL:https://mr-luechow.de/termin/luv-model-aufbau-schulung/
LOCATION:MR-Zentrum\, Bergstraße 10\, Lüchow\, Deutschland\, 29439\, Deutschland
CATEGORIES:Schulungen
END:VEVENT
BEGIN:VEVENT
DTSTART;TZID=Europe/Berlin:20200116T090000
DTEND;TZID=Europe/Berlin:20200116T170000
DTSTAMP:20260424T003253
CREATED:20190806T133143Z
LAST-MODIFIED:20190806T133449Z
UID:6238-1579165200-1579194000@mr-luechow.de
SUMMARY:Auffrischungsschulung der Betreiberqualifikation
DESCRIPTION:Programm\n09.00 Uhr Begrüßung\, Vorstellungsrunde\, Einführung\n\n\nAuffrischung zum Thema Anlagensicherheit und Arbeitsschutz\n\n\nÄnderungen und Aktuelles bei geltenden rechtlichen Vorgaben\n\n\nIn Vorbereitung befindliche neue Vorgaben\n\n\nGenehmigungsrecht\, wasserwirtschaftliche Anforderungen\, Störfallverordnung\n\n\nAktuelle Arbeitshilfen und Merkblätter\n\n\nBeispiele aus der Praxis\n\n\nAus der Praxis für die Praxis\n\n\nPrüfung: Multiple-Choice-Test\n\n\n  \nAnmeldungen bitte unter 05841-9628131 bei Dorothea Olm oder per Mail an d.olm@mr-luechow.de!\n 
URL:https://mr-luechow.de/termin/auffrischungsschulung-der-betreiberqualifikation/
LOCATION:MR-Zentrum\, Bergstraße 10\, Lüchow\, Deutschland\, 29439\, Deutschland
END:VEVENT
BEGIN:VEVENT
DTSTART;VALUE=DATE:20200128
DTEND;VALUE=DATE:20200130
DTSTAMP:20260424T003253
CREATED:20190611T090125Z
LAST-MODIFIED:20190611T090125Z
UID:6049-1580169600-1580342399@mr-luechow.de
SUMMARY:LUV-Model - Aufbau-Schulung
DESCRIPTION:Anmeldungen bitte bei der SVLFG\, Ansprechpartnerin Frau A. Hoya\, Tel: 0561-78516538
URL:https://mr-luechow.de/termin/luv-model-aufbau-schulung-2/
LOCATION:MR-Zentrum\, Bergstraße 10\, Lüchow\, Deutschland\, 29439\, Deutschland
CATEGORIES:Schulungen
END:VEVENT
END:VCALENDAR