BEGIN:VCALENDAR
VERSION:2.0
PRODID:-//Maschinenring Lüchow e.V. - ECPv6.15.20//NONSGML v1.0//EN
CALSCALE:GREGORIAN
METHOD:PUBLISH
X-WR-CALNAME:Maschinenring Lüchow e.V.
X-ORIGINAL-URL:https://mr-luechow.de
X-WR-CALDESC:Veranstaltungen für Maschinenring Lüchow e.V.
REFRESH-INTERVAL;VALUE=DURATION:PT1H
X-Robots-Tag:noindex
X-PUBLISHED-TTL:PT1H
BEGIN:VTIMEZONE
TZID:Europe/Berlin
BEGIN:DAYLIGHT
TZOFFSETFROM:+0100
TZOFFSETTO:+0200
TZNAME:CEST
DTSTART:20190331T010000
END:DAYLIGHT
BEGIN:STANDARD
TZOFFSETFROM:+0200
TZOFFSETTO:+0100
TZNAME:CET
DTSTART:20191027T010000
END:STANDARD
BEGIN:DAYLIGHT
TZOFFSETFROM:+0100
TZOFFSETTO:+0200
TZNAME:CEST
DTSTART:20200329T010000
END:DAYLIGHT
BEGIN:STANDARD
TZOFFSETFROM:+0200
TZOFFSETTO:+0100
TZNAME:CET
DTSTART:20201025T010000
END:STANDARD
BEGIN:DAYLIGHT
TZOFFSETFROM:+0100
TZOFFSETTO:+0200
TZNAME:CEST
DTSTART:20210328T010000
END:DAYLIGHT
BEGIN:STANDARD
TZOFFSETFROM:+0200
TZOFFSETTO:+0100
TZNAME:CET
DTSTART:20211031T010000
END:STANDARD
END:VTIMEZONE
BEGIN:VEVENT
DTSTART;TZID=Europe/Berlin:20200220T090000
DTEND;TZID=Europe/Berlin:20200220T170000
DTSTAMP:20260424T030401
CREATED:20190813T114903Z
LAST-MODIFIED:20200113T115002Z
UID:6273-1582189200-1582218000@mr-luechow.de
SUMMARY:Sachkundelehrgang
DESCRIPTION:Nagerbekämpfung (Mäuse und Ratten) gem. §4 (1) Tierschutzgesetz inkl. Zertifikatsschulung für berufsmäßige Anwender. \n  \nAnmeldungen bis zum 10.02.2020 bei Dorothea Olm unter 0 58 41 – 96 28 131 oder per Mail an d.olm@mr-luechow.de. \n 
URL:https://mr-luechow.de/termin/sachkundelehrgang/
LOCATION:MR-Zentrum\, Bergstraße 10\, Lüchow\, Deutschland\, 29439\, Deutschland
CATEGORIES:Schulungen
END:VEVENT
BEGIN:VEVENT
DTSTART;TZID=Europe/Berlin:20200224T190000
DTEND;TZID=Europe/Berlin:20200224T220000
DTSTAMP:20260424T030401
CREATED:20200113T085454Z
LAST-MODIFIED:20200113T085539Z
UID:6473-1582570800-1582581600@mr-luechow.de
SUMMARY:54. Mitgliederversammlung
DESCRIPTION:
URL:https://mr-luechow.de/termin/54-mitgliederversammlung/
LOCATION:Gildehaus Lüchow\, Tannenbergstraße 1\, Lüchow\, 29439
CATEGORIES:Veranstaltungen
ORGANIZER;CN="Maschinenring L%C3%BCchow e.V.":MAILTO:info@mr-luechow.de
END:VEVENT
BEGIN:VEVENT
DTSTART;TZID=Europe/Berlin:20200227T100000
DTEND;TZID=Europe/Berlin:20200227T120000
DTSTAMP:20260424T030401
CREATED:20200213T121107Z
LAST-MODIFIED:20200213T121107Z
UID:6554-1582797600-1582804800@mr-luechow.de
SUMMARY:Vorsorgevollmacht und Patientenverfügung\, Informationsveranstaltung der MRVV
DESCRIPTION:Rechtzeitig – selbstbestimmt – vorsorgen\, für das gute Gefühl\, Wichtiges geregelt zu haben!\nSicher – es gibt erfreulichere Themen\, als ausgerechnet Vorsorgevollmacht\, Betreuungs- oder Patientenverfügung. Und doch kann der Zeitpunkt kommen\, an dem genau diese Dokumente gebraucht werden. Nehmen Sie sich in guten Tagen die Zeit\, diese Fragen für sich und Ihre Angehörigen in Ruhe zu klären – und zwar rechtssicher\, unkompliziert und langfristig.\nViele glauben\, dass in einem Notfall der Ehepartner oder ein naher Verwandter alle wichtigen Entscheidungen treffen darf. Aber dies ist ein weit verbreiteter Irrglaube\, denn weder der Ehepartner noch Verwandte dürfen Sie automatisch vertreten!\nDarum ist es so wichtig\, dass Sie Ihren Willen und Ihre Wünsche im Vorfeld schriftlich festlegen und eine Personen Ihres Vertrauens benennen\, die sich dann um Ihre Angelegenheiten in Ihrem Sinne kümmert.\nAus diesem Grund wurde in Zusammenarbeit mit dem Versicherungsmakler der Maschinenringe – der MRVV GmbH & Co. KG – der Service für unsere Mitglieder um diesen wichtigen Bereich der Vorsorge erweitert. \n  \nAnmeldungen und Fragen bei Dorothea Olm unter 05841-9628130 oder per Mail an d.olm@mr-luechow.de. 
URL:https://mr-luechow.de/termin/vorsorgevollmacht-und-patientenverfuegung-informationsveranstaltung-der-mrvv-2/
LOCATION:MR-Zentrum\, Bergstraße 10\, Lüchow\, Deutschland\, 29439\, Deutschland
END:VEVENT
BEGIN:VEVENT
DTSTART;TZID=Europe/Berlin:20200227T133000
DTEND;TZID=Europe/Berlin:20200227T153000
DTSTAMP:20260424T030401
CREATED:20200113T085937Z
LAST-MODIFIED:20200213T120834Z
UID:6477-1582810200-1582817400@mr-luechow.de
SUMMARY:Vorsorgevollmacht und Patientenverfügung\, Informationsveranstaltung der MRVV
DESCRIPTION:Rechtzeitig – selbstbestimmt – vorsorgen\, für das gute Gefühl\, Wichtiges geregelt zu haben!\nSicher – es gibt erfreulichere Themen\, als ausgerechnet Vorsorgevollmacht\, Betreuungs- oder Patientenverfügung. Und doch kann der Zeitpunkt kommen\, an dem genau diese Dokumente gebraucht werden. Nehmen Sie sich in guten Tagen die Zeit\, diese Fragen für sich und Ihre Angehörigen in Ruhe zu klären – und zwar rechtssicher\, unkompliziert und langfristig.\nViele glauben\, dass in einem Notfall der Ehepartner oder ein naher Verwandter alle wichtigen Entscheidungen treffen darf. Aber dies ist ein weit verbreiteter Irrglaube\, denn weder der Ehepartner noch Verwandte dürfen Sie automatisch vertreten!\nDarum ist es so wichtig\, dass Sie Ihren Willen und Ihre Wünsche im Vorfeld schriftlich festlegen und eine Personen Ihres Vertrauens benennen\, die sich dann um Ihre Angelegenheiten in Ihrem Sinne kümmert.\nAus diesem Grund wurde in Zusammenarbeit mit dem Versicherungsmakler der Maschinenringe – der MRVV GmbH & Co. KG – der Service für unsere Mitglieder um diesen wichtigen Bereich der Vorsorge erweitert. \n  \nAnmeldungen und Fragen bei Dorothea Olm unter 05841-9628130 oder per Mail an d.olm@mr-luechow.de. 
URL:https://mr-luechow.de/termin/vorsorgevollmacht-und-patientenverfuegung-informationsveranstaltung-der-mrvv/
LOCATION:MR-Zentrum\, Bergstraße 10\, Lüchow\, Deutschland\, 29439\, Deutschland
CATEGORIES:Veranstaltungen
END:VEVENT
END:VCALENDAR