BEGIN:VCALENDAR
VERSION:2.0
PRODID:-//Maschinenring Lüchow e.V. - ECPv6.15.20//NONSGML v1.0//EN
CALSCALE:GREGORIAN
METHOD:PUBLISH
X-WR-CALNAME:Maschinenring Lüchow e.V.
X-ORIGINAL-URL:https://mr-luechow.de
X-WR-CALDESC:Veranstaltungen für Maschinenring Lüchow e.V.
REFRESH-INTERVAL;VALUE=DURATION:PT1H
X-Robots-Tag:noindex
X-PUBLISHED-TTL:PT1H
BEGIN:VTIMEZONE
TZID:Europe/Berlin
BEGIN:DAYLIGHT
TZOFFSETFROM:+0100
TZOFFSETTO:+0200
TZNAME:CEST
DTSTART:20190331T010000
END:DAYLIGHT
BEGIN:STANDARD
TZOFFSETFROM:+0200
TZOFFSETTO:+0100
TZNAME:CET
DTSTART:20191027T010000
END:STANDARD
BEGIN:DAYLIGHT
TZOFFSETFROM:+0100
TZOFFSETTO:+0200
TZNAME:CEST
DTSTART:20200329T010000
END:DAYLIGHT
BEGIN:STANDARD
TZOFFSETFROM:+0200
TZOFFSETTO:+0100
TZNAME:CET
DTSTART:20201025T010000
END:STANDARD
BEGIN:DAYLIGHT
TZOFFSETFROM:+0100
TZOFFSETTO:+0200
TZNAME:CEST
DTSTART:20210328T010000
END:DAYLIGHT
BEGIN:STANDARD
TZOFFSETFROM:+0200
TZOFFSETTO:+0100
TZNAME:CET
DTSTART:20211031T010000
END:STANDARD
END:VTIMEZONE
BEGIN:VEVENT
DTSTART;TZID=Europe/Berlin:20200317T090000
DTEND;TZID=Europe/Berlin:20200317T160000
DTSTAMP:20260424T043107
CREATED:20200213T141701Z
LAST-MODIFIED:20200213T141838Z
UID:6558-1584435600-1584460800@mr-luechow.de
SUMMARY:Workshop - vom Familienbetrieb zum Arbeitgeber
DESCRIPTION:Unser Maschinenring-Kollege Uwe Reimers (Geschäftsführer des MR Mittelholstein mit 100 Arbeitnehmern) und Herr Sönke Holling\, gut vernetzter und erfolgreicher Milchviehlandwirt (Ausbildungsbetrieb des Jahres\, Mitentwickler Dairy Herdsman)\, haben einen Workshop für landwirtschaftliche Kunden entwickelt\, da sie täglich sehen können\, wie schwer die Herausforderungen auf den Höfen wirklich sind. \nNutzen Sie die Chance: \nArbeitgeber und trotzdem glücklich!\nIn einem lebhaften\, eintägigen Workshop im Maschinenring-Zentrum in Lüchow bringen sie Ihnen das passende „Handwerkzeug“ (in digitaler – und Papierform) mit und geben Tipps und Tricks als erfahrene Praktiker.\nDie Erfolgsfaktoren des Workshops sind: \n\nLernen Sie Mitarbeiter zu verstehen\nRichtig führen und managen\nBringen Sie Strukturen in Ihren Führungsalltag\nVom zufälligen Glück zum geplanten Erfolg\nSie bekommen Ideen und Profiwissen für wertschätzende Mitarbeiterführung\nErfolgreiche Zusammenarbeit durch gegenseitige Wertschätzung\nMit Mitarbeitern Geld verdienen\nWirtschaftlicher Aufschwung mit Hilfe von Mitarbeitern\n\n250\,00 € netto / p.P. : Seminarkosten & Tagungspauschale (Getränke\, Snacks\, Mittagessen) \nAnmeldungen bitte bei Dorothea Olm unter 05841-9628131 oder per Mail d.olm@mr-luechow.de
URL:https://mr-luechow.de/termin/workshop-vom-familienbetrieb-zum-arbeitgeber/
LOCATION:MR-Zentrum\, Bergstraße 10\, Lüchow\, Deutschland\, 29439\, Deutschland
CATEGORIES:Schulungen
END:VEVENT
BEGIN:VEVENT
DTSTART;TZID=Europe/Berlin:20200318T100000
DTEND;TZID=Europe/Berlin:20200318T120000
DTSTAMP:20260424T043107
CREATED:20200213T114523Z
LAST-MODIFIED:20200213T120722Z
UID:6537-1584525600-1584532800@mr-luechow.de
SUMMARY:Info-Veranstaltung der MRVV - Afrikanische Schweinepest
DESCRIPTION:Afrikanische Schweinepest – Jetzt Ernteverluste mit der MRVV absichern!\n  \nBereits im Juni 2018 gab es erste größere Fälle von ASP in Tschechien und Belgien. Inzwischen werden immer zahlreichere Fälle von ASP in Westpolen gemeldet\, unweit der deutschen Grenze. \nMit welchen Konsequenzen müssen Sie als Landwirt in Deutschland rechnen?\nWird ein Wildschwein gefunden\, welches mit ASP infiziert ist\, wird von den Behörden ein Sperrgebiet rund um den Fundort errichtet. Dieses Sperrgebiet kann einen Umkreis von bis zu 15 km umfassen. Innerhalb dieser Sperrzone kann die Nutzung der land- oder forstwirtschaftlichen Grundstücke für mehrere Monate verboten oder eingeschränkt werden. Dies hat unter anderem Auswirkungen auf Ihre Ernte\, auf die Bodenbearbeitung oder auf die Fruchtfolge.\nFür Betriebe mit Schweinehaltung ist die Verwendung von Tierfutter\, das aus dem Gebiet der Sperrzone bezogen wurde\, verboten. Weiterhin ist der Transport von Tieren oder die Ausbringung von Gülle und Mist verboten\, oder nur mit strenger behördlicher Genehmigung möglich. \nDer Gesetzgeber arbeitet derzeit an einem Entschädigungssystem für den entgangenen Deckungsbeitrag. Diese Entschädigungszahlungen decken jedoch nur einen geringen Teil des tatsächlichen Verlustes ab. Um dem möglichen Verlust vorzubeugen\, gibt es derzeit zwei Versicherungsunternehmen\, welche über die gesetzliche Entschädigung hinaus leisten. \nHaben Sie Interesse an einer Ertragsschadenversicherung\, um sich gegen die mögliche Gefahr der Afrikanischen Schweinepest abzusichern? Sind Sie an persönlichen Informationen interessiert? \nAnmeldungen bitte bis zum 10.03.2020 bei Dorothea Olm unter 05841-9628131 oder unter d.olm@mr-luechow.de.
URL:https://mr-luechow.de/termin/info-veranstaltung-der-mrvv/
LOCATION:MR-Zentrum\, Bergstraße 10\, Lüchow\, Deutschland\, 29439\, Deutschland
CATEGORIES:Veranstaltungen
END:VEVENT
BEGIN:VEVENT
DTSTART;TZID=Europe/Berlin:20200318T100000
DTEND;TZID=Europe/Berlin:20200318T120000
DTSTAMP:20260424T043107
CREATED:20200213T120257Z
LAST-MODIFIED:20200213T120257Z
UID:6542-1584525600-1584532800@mr-luechow.de
SUMMARY:Mitgliederaktion: Angebot Betriebs – Check
DESCRIPTION:Seit längerem bieten wir in Kooperation mit der MRVV\, dem Spezialmakler für die Landwirtschaft\, den Betriebs-Check an. \nUmso mehr freuen wir uns\, dass wir seit dem 01.10.2019 Herrn Ernesto Dastschi in unserem Hause begrüßen dürfen. Er ist Ihr kompetenter Ansprechpartner hier vor Ort in unserem Maschinenring-Zentrum.\nAufgrund der positiven Reaktionen der bereits durchgeführten Aktionen möchten wir allen Mitgliedern des Maschinenrings dieses Konzept gern anbieten. \nIhr Versicherungsschutz wird von einem Spezialisten neutral überprüft! Im Anschluss erhalten Sie eine schriftliche Auswertung zu folgenden Risiken: \n\nBetriebs-/ Tierhalterhalter-Haftpflicht\nWohn- und Gebäudegebäude\nInventar (Maschinen/Einrichtung/Tiere)\nHausrat / Rechtsschutz\n\nViele Mitglieder haben dadurch ihren Versicherungsschutz erheblich optimieren können. \n\nMelden Sie sich bitte bis zum 10.03.2020 an.\nAuf ein persönliches Kennenlernen freuen wir uns!\n  \nErnesto Dastschi\nKundenberater MR-Lüchow\,\nAußenstelle der MRVV GmbH &Co. KG\nBergstraße 10\, 29439 Lüchow\nTelefon: 05841/9628160\nMobil: 0171-5681501\nMail: dastschi@mrvv-deutschland.de\n 
URL:https://mr-luechow.de/termin/mitgliederaktion-angebot-betriebs-check/
LOCATION:MR-Zentrum\, Bergstraße 10\, Lüchow\, Deutschland\, 29439\, Deutschland
CATEGORIES:Veranstaltungen
END:VEVENT
END:VCALENDAR